Package: SimBu Version: 1.9.0 Command: chmod a+r SimBu -R && E:\biocbuild\bbs-3.21-bioc\R\bin\R.exe CMD build --keep-empty-dirs --no-resave-data SimBu StartedAt: 2025-02-09 21:41:37 -0500 (Sun, 09 Feb 2025) EndedAt: 2025-02-09 21:43:09 -0500 (Sun, 09 Feb 2025) EllapsedTime: 91.9 seconds RetCode: 0 Status: OK PackageFile: SimBu_1.9.0.tar.gz PackageFileSize: 115.1 KiB