Package: SimFFPE Version: 1.19.0 Command: rm -rf SimFFPE.buildbin-libdir && mkdir SimFFPE.buildbin-libdir && /Users/biocbuild/BBS/utils/build-universal.sh SimFFPE_1.19.0.tar.gz /Library/Frameworks/R.framework/Resources/bin/R SimFFPE.buildbin-libdir StartedAt: 2025-02-12 22:36:20 -0500 (Wed, 12 Feb 2025) EndedAt: 2025-02-12 22:36:27 -0500 (Wed, 12 Feb 2025) EllapsedTime: 7.2 seconds RetCode: 0 Status: OK PackageFile: SimFFPE_1.19.0.tgz PackageFileSize: 807.5 KiB