Package: SimFFPE Version: 1.19.0 Command: /Library/Frameworks/R.framework/Resources/bin/R CMD check --install=check:SimFFPE.install-out.txt --library=/Library/Frameworks/R.framework/Resources/library --no-vignettes --timings SimFFPE_1.19.0.tar.gz StartedAt: 2025-02-12 23:24:39 -0500 (Wed, 12 Feb 2025) EndedAt: 2025-02-12 23:29:21 -0500 (Wed, 12 Feb 2025) EllapsedTime: 282.9 seconds RetCode: 0 Status: OK CheckDir: SimFFPE.Rcheck Warnings: 0