Package: SimFFPE Version: 1.19.0 Command: /home/biocbuild/bbs-3.21-bioc/R/bin/R CMD check --install=check:SimFFPE.install-out.txt --library=/home/biocbuild/bbs-3.21-bioc/R/site-library --timings SimFFPE_1.19.0.tar.gz StartedAt: 2025-02-10 02:41:01 -0500 (Mon, 10 Feb 2025) EndedAt: 2025-02-10 02:46:20 -0500 (Mon, 10 Feb 2025) EllapsedTime: 319.4 seconds RetCode: 0 Status: OK CheckDir: SimFFPE.Rcheck Warnings: 0