Package: SimFFPE Version: 1.19.0 Command: E:\biocbuild\bbs-3.21-bioc\R\bin\R.exe CMD INSTALL SimFFPE StartedAt: 2025-02-09 15:42:52 -0500 (Sun, 09 Feb 2025) EndedAt: 2025-02-09 15:43:11 -0500 (Sun, 09 Feb 2025) EllapsedTime: 19.5 seconds RetCode: 0 Status: OK