Package: SingleCellExperiment Version: 1.29.1 Command: /Library/Frameworks/R.framework/Resources/bin/R CMD build --keep-empty-dirs --no-resave-data SingleCellExperiment StartedAt: 2025-02-09 17:38:10 -0500 (Sun, 09 Feb 2025) EndedAt: 2025-02-09 17:38:39 -0500 (Sun, 09 Feb 2025) EllapsedTime: 29.3 seconds RetCode: 0 Status: OK PackageFile: SingleCellExperiment_1.29.1.tar.gz PackageFileSize: 962.2 KiB