Package: SingleCellExperiment Version: 1.29.1 Command: /Library/Frameworks/R.framework/Resources/bin/R CMD build --keep-empty-dirs --no-resave-data SingleCellExperiment StartedAt: 2025-02-12 18:21:46 -0500 (Wed, 12 Feb 2025) EndedAt: 2025-02-12 18:23:02 -0500 (Wed, 12 Feb 2025) EllapsedTime: 75.4 seconds RetCode: 0 Status: OK PackageFile: SingleCellExperiment_1.29.1.tar.gz PackageFileSize: 962.3 KiB