Package: SingleCellExperiment Version: 1.29.1 Command: /Library/Frameworks/R.framework/Resources/bin/R CMD INSTALL SingleCellExperiment StartedAt: 2025-02-12 15:11:03 -0500 (Wed, 12 Feb 2025) EndedAt: 2025-02-12 15:11:44 -0500 (Wed, 12 Feb 2025) EllapsedTime: 40.6 seconds RetCode: 0 Status: OK