Package: SingleCellExperiment Version: 1.29.1 Command: /home/biocbuild/bbs-3.21-bioc/R/bin/R CMD build --keep-empty-dirs --no-resave-data SingleCellExperiment StartedAt: 2025-02-12 19:14:29 -0500 (Wed, 12 Feb 2025) EndedAt: 2025-02-12 19:15:40 -0500 (Wed, 12 Feb 2025) EllapsedTime: 71.1 seconds RetCode: 0 Status: OK PackageFile: SingleCellExperiment_1.29.1.tar.gz PackageFileSize: 962.6 KiB