Package: SingleCellExperiment Version: 1.29.1 Command: /home/biocbuild/bbs-3.21-bioc/R/bin/R CMD check --install=check:SingleCellExperiment.install-out.txt --library=/home/biocbuild/bbs-3.21-bioc/R/site-library --timings SingleCellExperiment_1.29.1.tar.gz StartedAt: 2025-02-13 02:42:43 -0500 (Thu, 13 Feb 2025) EndedAt: 2025-02-13 02:47:21 -0500 (Thu, 13 Feb 2025) EllapsedTime: 278.5 seconds RetCode: 0 Status: OK CheckDir: SingleCellExperiment.Rcheck Warnings: 0