Package: SingleCellExperiment Version: 1.29.1 Command: rm -rf SingleCellExperiment.buildbin-libdir && mkdir SingleCellExperiment.buildbin-libdir && E:\biocbuild\bbs-3.21-bioc\R\bin\R.exe CMD INSTALL --build --library=SingleCellExperiment.buildbin-libdir SingleCellExperiment_1.29.1.tar.gz StartedAt: 2025-02-13 08:54:56 -0500 (Thu, 13 Feb 2025) EndedAt: 2025-02-13 09:02:37 -0500 (Thu, 13 Feb 2025) EllapsedTime: 461.7 seconds RetCode: 0 Status: OK PackageFile: SingleCellExperiment_1.29.1.zip PackageFileSize: 1.921 MiB