Package: SingleCellSignalR Version: 1.19.0 Command: /Library/Frameworks/R.framework/Resources/bin/R CMD build --keep-empty-dirs --no-resave-data SingleCellSignalR StartedAt: 2025-02-04 17:38:23 -0500 (Tue, 04 Feb 2025) EndedAt: 2025-02-04 17:38:54 -0500 (Tue, 04 Feb 2025) EllapsedTime: 30.4 seconds RetCode: 0 Status: OK PackageFile: SingleCellSignalR_1.19.0.tar.gz PackageFileSize: 4.402 MiB