Package: SingleCellSignalR Version: 1.19.0 Command: /Library/Frameworks/R.framework/Resources/bin/R CMD INSTALL SingleCellSignalR StartedAt: 2025-02-04 15:25:23 -0500 (Tue, 04 Feb 2025) EndedAt: 2025-02-04 15:25:42 -0500 (Tue, 04 Feb 2025) EllapsedTime: 19.6 seconds RetCode: 0 Status: OK