Package: SingleCellSignalR Version: 1.19.0 Command: /home/biocbuild/R/R/bin/R CMD check --install=check:SingleCellSignalR.install-out.txt --library=/home/biocbuild/R/R/site-library --no-vignettes --timings SingleCellSignalR_1.19.0.tar.gz StartedAt: 2025-01-28 15:23:35 -0000 (Tue, 28 Jan 2025) EndedAt: 2025-01-28 15:28:14 -0000 (Tue, 28 Jan 2025) EllapsedTime: 279.3 seconds RetCode: 0 Status: WARNINGS CheckDir: SingleCellSignalR.Rcheck Warnings: 2