Package: SingleCellSignalR Version: 1.19.0 Command: /home/biocbuild/R/R/bin/R CMD INSTALL SingleCellSignalR StartedAt: 2025-01-29 20:29:50 -0000 (Wed, 29 Jan 2025) EndedAt: 2025-01-29 20:30:46 -0000 (Wed, 29 Jan 2025) EllapsedTime: 55.1 seconds RetCode: 0 Status: OK