Package: SingleCellSignalR Version: 1.19.0 Command: /home/biocbuild/bbs-3.21-bioc/R/bin/R CMD build --keep-empty-dirs --no-resave-data SingleCellSignalR StartedAt: 2025-02-09 19:18:44 -0500 (Sun, 09 Feb 2025) EndedAt: 2025-02-09 19:19:59 -0500 (Sun, 09 Feb 2025) EllapsedTime: 75.1 seconds RetCode: 0 Status: OK PackageFile: SingleCellSignalR_1.19.0.tar.gz PackageFileSize: 4.357 MiB