Package: SingleCellSignalR Version: 1.19.0 Command: rm -rf SingleCellSignalR.buildbin-libdir && mkdir SingleCellSignalR.buildbin-libdir && E:\biocbuild\bbs-3.21-bioc\R\bin\R.exe CMD INSTALL --build --library=SingleCellSignalR.buildbin-libdir SingleCellSignalR_1.19.0.tar.gz StartedAt: 2025-02-05 08:56:32 -0500 (Wed, 05 Feb 2025) EndedAt: 2025-02-05 08:57:34 -0500 (Wed, 05 Feb 2025) EllapsedTime: 62.6 seconds RetCode: 0 Status: OK PackageFile: SingleCellSignalR_1.19.0.zip PackageFileSize: 6.203 MiB