Package: SingleCellSignalR Version: 1.19.0 Command: E:\biocbuild\bbs-3.21-bioc\R\bin\R.exe CMD INSTALL SingleCellSignalR StartedAt: 2025-02-04 16:46:25 -0500 (Tue, 04 Feb 2025) EndedAt: 2025-02-04 16:48:03 -0500 (Tue, 04 Feb 2025) EllapsedTime: 98.2 seconds RetCode: 0 Status: OK