Package: SingleMoleculeFootprinting Version: 2.1.0 Maintainer: Guido Barzaghi MaintainerEmail: guido.barzaghi at embl.de git_url: https://git.bioconductor.org/packages/SingleMoleculeFootprinting git_branch: devel git_last_commit: 4f48427 git_last_commit_date: 2025-02-04 12:28:45 -0500 (Tue, 04 Feb 2025)