Package: SingleMoleculeFootprinting Version: 2.1.0 Command: /Library/Frameworks/R.framework/Resources/bin/R CMD check --install=check:SingleMoleculeFootprinting.install-out.txt --library=/Library/Frameworks/R.framework/Resources/library --no-vignettes --timings SingleMoleculeFootprinting_2.1.0.tar.gz StartedAt: 2025-02-09 21:24:42 -0500 (Sun, 09 Feb 2025) EndedAt: 2025-02-09 21:27:09 -0500 (Sun, 09 Feb 2025) EllapsedTime: 146.8 seconds RetCode: 0 Status: WARNINGS CheckDir: SingleMoleculeFootprinting.Rcheck Warnings: 1