Package: SingleMoleculeFootprinting Version: 2.1.0 Command: /Library/Frameworks/R.framework/Resources/bin/R CMD INSTALL SingleMoleculeFootprinting StartedAt: 2025-02-09 15:15:37 -0500 (Sun, 09 Feb 2025) EndedAt: 2025-02-09 15:15:58 -0500 (Sun, 09 Feb 2025) EllapsedTime: 20.2 seconds RetCode: 0 Status: OK