Package: SingleMoleculeFootprinting Version: 2.1.0 Command: rm -rf SingleMoleculeFootprinting.buildbin-libdir && mkdir SingleMoleculeFootprinting.buildbin-libdir && /Users/biocbuild/BBS/utils/build-universal.sh SingleMoleculeFootprinting_2.1.0.tar.gz /Library/Frameworks/R.framework/Resources/bin/R SingleMoleculeFootprinting.buildbin-libdir StartedAt: 2025-02-10 01:17:13 -0500 (Mon, 10 Feb 2025) EndedAt: 2025-02-10 01:18:26 -0500 (Mon, 10 Feb 2025) EllapsedTime: 72.4 seconds RetCode: 0 Status: OK PackageFile: SingleMoleculeFootprinting_2.1.0.tgz PackageFileSize: 4.562 MiB