Package: SingleMoleculeFootprinting Version: 2.1.0 Command: /Library/Frameworks/R.framework/Resources/bin/R CMD build --keep-empty-dirs --no-resave-data SingleMoleculeFootprinting StartedAt: 2025-02-09 18:29:34 -0500 (Sun, 09 Feb 2025) EndedAt: 2025-02-09 18:32:46 -0500 (Sun, 09 Feb 2025) EllapsedTime: 191.9 seconds RetCode: 0 Status: OK PackageFile: SingleMoleculeFootprinting_2.1.0.tar.gz PackageFileSize: 4.365 MiB