Package: SingleMoleculeFootprinting Version: 2.1.0 Command: /Library/Frameworks/R.framework/Resources/bin/R CMD INSTALL SingleMoleculeFootprinting StartedAt: 2025-02-09 15:26:28 -0500 (Sun, 09 Feb 2025) EndedAt: 2025-02-09 15:27:35 -0500 (Sun, 09 Feb 2025) EllapsedTime: 66.6 seconds RetCode: 0 Status: OK