Package: SingleMoleculeFootprinting Version: 2.1.0 Command: rm -rf SingleMoleculeFootprinting.buildbin-libdir && mkdir SingleMoleculeFootprinting.buildbin-libdir && E:\biocbuild\bbs-3.21-bioc\R\bin\R.exe CMD INSTALL --build --library=SingleMoleculeFootprinting.buildbin-libdir SingleMoleculeFootprinting_2.1.0.tar.gz StartedAt: 2025-02-10 08:44:17 -0500 (Mon, 10 Feb 2025) EndedAt: 2025-02-10 08:57:52 -0500 (Mon, 10 Feb 2025) EllapsedTime: 815.6 seconds RetCode: 0 Status: OK PackageFile: SingleMoleculeFootprinting_2.1.0.zip PackageFileSize: 3.353 MiB