Package: SingleMoleculeFootprinting Version: 2.1.0 Command: chmod a+r SingleMoleculeFootprinting -R && E:\biocbuild\bbs-3.21-bioc\R\bin\R.exe CMD build --keep-empty-dirs --no-resave-data SingleMoleculeFootprinting StartedAt: 2025-02-09 21:43:07 -0500 (Sun, 09 Feb 2025) EndedAt: 2025-02-09 21:47:24 -0500 (Sun, 09 Feb 2025) EllapsedTime: 257.6 seconds RetCode: 0 Status: OK PackageFile: SingleMoleculeFootprinting_2.1.0.tar.gz PackageFileSize: 3.143 MiB