Package: SingleMoleculeFootprinting Version: 2.1.0 Command: E:\biocbuild\bbs-3.21-bioc\R\bin\R.exe CMD check --no-multiarch --install=check:SingleMoleculeFootprinting.install-out.txt --library=E:\biocbuild\bbs-3.21-bioc\R\library --no-vignettes --timings SingleMoleculeFootprinting_2.1.0.tar.gz StartedAt: 2025-02-10 05:31:26 -0500 (Mon, 10 Feb 2025) EndedAt: 2025-02-10 05:39:13 -0500 (Mon, 10 Feb 2025) EllapsedTime: 467.1 seconds RetCode: 0 Status: WARNINGS CheckDir: SingleMoleculeFootprinting.Rcheck Warnings: 1