Package: SingleMoleculeFootprinting Version: 2.1.0 Command: E:\biocbuild\bbs-3.21-bioc\R\bin\R.exe CMD INSTALL SingleMoleculeFootprinting StartedAt: 2025-02-09 16:53:58 -0500 (Sun, 09 Feb 2025) EndedAt: 2025-02-09 17:00:29 -0500 (Sun, 09 Feb 2025) EllapsedTime: 390.9 seconds RetCode: 0 Status: OK