Package: SomaticSignatures Version: 2.43.0 Command: /home/biocbuild/R/R/bin/R CMD build --keep-empty-dirs --no-resave-data SomaticSignatures StartedAt: 2025-01-29 02:28:37 -0000 (Wed, 29 Jan 2025) EndedAt: 2025-01-29 02:34:54 -0000 (Wed, 29 Jan 2025) EllapsedTime: 377.3 seconds RetCode: 0 Status: OK PackageFile: SomaticSignatures_2.43.0.tar.gz PackageFileSize: 1.986 MiB