Package: SomaticSignatures Version: 2.43.0 Command: /home/biocbuild/R/R/bin/R CMD check --install=check:SomaticSignatures.install-out.txt --library=/home/biocbuild/R/R/site-library --no-vignettes --timings SomaticSignatures_2.43.0.tar.gz StartedAt: 2025-01-28 15:30:24 -0000 (Tue, 28 Jan 2025) EndedAt: 2025-01-28 15:39:57 -0000 (Tue, 28 Jan 2025) EllapsedTime: 572.5 seconds RetCode: 0 Status: WARNINGS CheckDir: SomaticSignatures.Rcheck Warnings: 6