Package: SomaticSignatures Version: 2.43.0 Command: /Library/Frameworks/R.framework/Resources/bin/R CMD build --keep-empty-dirs --no-resave-data SomaticSignatures StartedAt: 2025-02-09 18:31:43 -0500 (Sun, 09 Feb 2025) EndedAt: 2025-02-09 18:34:58 -0500 (Sun, 09 Feb 2025) EllapsedTime: 194.1 seconds RetCode: 0 Status: OK PackageFile: SomaticSignatures_2.43.0.tar.gz PackageFileSize: 2.817 MiB