Package: SomaticSignatures Version: 2.43.0 Command: /home/biocbuild/bbs-3.21-bioc/R/bin/R CMD INSTALL SomaticSignatures StartedAt: 2025-02-09 15:45:34 -0500 (Sun, 09 Feb 2025) EndedAt: 2025-02-09 15:46:32 -0500 (Sun, 09 Feb 2025) EllapsedTime: 58.0 seconds RetCode: 0 Status: OK