Package: SomaticSignatures Version: 2.43.0 Command: rm -rf SomaticSignatures.buildbin-libdir && mkdir SomaticSignatures.buildbin-libdir && E:\biocbuild\bbs-3.21-bioc\R\bin\R.exe CMD INSTALL --build --library=SomaticSignatures.buildbin-libdir SomaticSignatures_2.43.0.tar.gz StartedAt: 2025-02-04 08:58:59 -0500 (Tue, 04 Feb 2025) EndedAt: 2025-02-04 09:01:41 -0500 (Tue, 04 Feb 2025) EllapsedTime: 162.3 seconds RetCode: 0 Status: OK PackageFile: SomaticSignatures_2.43.0.zip PackageFileSize: 1.451 MiB