Package: SomaticSignatures Version: 2.43.0 Command: chmod a+r SomaticSignatures -R && E:\biocbuild\bbs-3.21-bioc\R\bin\R.exe CMD build --keep-empty-dirs --no-resave-data SomaticSignatures StartedAt: 2025-02-09 21:46:27 -0500 (Sun, 09 Feb 2025) EndedAt: 2025-02-09 21:50:02 -0500 (Sun, 09 Feb 2025) EllapsedTime: 215.4 seconds RetCode: 0 Status: OK PackageFile: SomaticSignatures_2.43.0.tar.gz PackageFileSize: 783.5 KiB