Package: SpaNorm Version: 1.1.0 Command: /Library/Frameworks/R.framework/Resources/bin/R CMD INSTALL SpaNorm StartedAt: 2025-02-09 15:25:11 -0500 (Sun, 09 Feb 2025) EndedAt: 2025-02-09 15:25:13 -0500 (Sun, 09 Feb 2025) EllapsedTime: 2.1 seconds RetCode: 0 Status: OK