Package: SpaNorm Version: 1.1.0 Command: /home/biocbuild/R/R/bin/R CMD build --keep-empty-dirs --no-resave-data SpaNorm StartedAt: 2025-01-28 02:35:43 -0000 (Tue, 28 Jan 2025) EndedAt: 2025-01-28 02:41:52 -0000 (Tue, 28 Jan 2025) EllapsedTime: 369.1 seconds RetCode: 0 Status: OK PackageFile: SpaNorm_1.1.0.tar.gz PackageFileSize: 6.029 MiB