Package: SpaNorm Version: 1.1.0 Command: /home/biocbuild/bbs-3.21-bioc/R/bin/R CMD build --keep-empty-dirs --no-resave-data SpaNorm StartedAt: 2025-02-09 19:21:47 -0500 (Sun, 09 Feb 2025) EndedAt: 2025-02-09 19:28:15 -0500 (Sun, 09 Feb 2025) EllapsedTime: 387.4 seconds RetCode: 0 Status: OK PackageFile: SpaNorm_1.1.0.tar.gz PackageFileSize: 7.454 MiB