Package: SpaNorm Version: 1.1.0 Command: /home/biocbuild/bbs-3.21-bioc/R/bin/R CMD INSTALL SpaNorm StartedAt: 2025-02-09 15:52:35 -0500 (Sun, 09 Feb 2025) EndedAt: 2025-02-09 15:52:40 -0500 (Sun, 09 Feb 2025) EllapsedTime: 5.1 seconds RetCode: 0 Status: OK