Package: SpaNorm Version: 1.1.0 Command: chmod a+r SpaNorm -R && E:\biocbuild\bbs-3.21-bioc\R\bin\R.exe CMD build --keep-empty-dirs --no-resave-data SpaNorm StartedAt: 2025-02-12 21:53:28 -0500 (Wed, 12 Feb 2025) EndedAt: 2025-02-12 22:03:16 -0500 (Wed, 12 Feb 2025) EllapsedTime: 588.0 seconds RetCode: 0 Status: OK PackageFile: SpaNorm_1.1.0.tar.gz PackageFileSize: 5.546 MiB