Package: SpaNorm Version: 1.1.0 Command: E:\biocbuild\bbs-3.21-bioc\R\bin\R.exe CMD INSTALL SpaNorm StartedAt: 2025-02-09 16:26:04 -0500 (Sun, 09 Feb 2025) EndedAt: 2025-02-09 16:26:17 -0500 (Sun, 09 Feb 2025) EllapsedTime: 12.1 seconds RetCode: 0 Status: OK