Package: SpacePAC Version: 1.45.0 Maintainer: Gregory Ryslik MaintainerEmail: gregory.ryslik at yale.edu git_url: https://git.bioconductor.org/packages/SpacePAC git_branch: devel git_last_commit: 1b3b2da git_last_commit_date: 2024-10-29 09:47:24 -0500 (Tue, 29 Oct 2024)