Package: SpacePAC Version: 1.45.0 Command: /home/biocbuild/bbs-3.21-bioc/R/bin/R CMD build --keep-empty-dirs --no-resave-data SpacePAC StartedAt: 2025-02-12 19:17:52 -0500 (Wed, 12 Feb 2025) EndedAt: 2025-02-12 19:18:51 -0500 (Wed, 12 Feb 2025) EllapsedTime: 59.1 seconds RetCode: 0 Status: OK PackageFile: SpacePAC_1.45.0.tar.gz PackageFileSize: 1.889 MiB