Package: SpacePAC Version: 1.45.0 Command: rm -rf SpacePAC.buildbin-libdir && mkdir SpacePAC.buildbin-libdir && E:\biocbuild\bbs-3.21-bioc\R\bin\R.exe CMD INSTALL --build --library=SpacePAC.buildbin-libdir SpacePAC_1.45.0.tar.gz StartedAt: 2025-02-10 08:45:52 -0500 (Mon, 10 Feb 2025) EndedAt: 2025-02-10 08:46:12 -0500 (Mon, 10 Feb 2025) EllapsedTime: 20.2 seconds RetCode: 0 Status: OK PackageFile: SpacePAC_1.45.0.zip PackageFileSize: 1019 KiB