Package: SpacePAC Version: 1.45.0 Command: chmod a+r SpacePAC -R && E:\biocbuild\bbs-3.21-bioc\R\bin\R.exe CMD build --keep-empty-dirs --no-resave-data SpacePAC StartedAt: 2025-02-12 21:53:11 -0500 (Wed, 12 Feb 2025) EndedAt: 2025-02-12 21:54:24 -0500 (Wed, 12 Feb 2025) EllapsedTime: 73.0 seconds RetCode: 0 Status: OK PackageFile: SpacePAC_1.45.0.tar.gz PackageFileSize: 1.699 MiB