Package: SparseSignatures Version: 2.17.0 Command: rm -rf SparseSignatures.buildbin-libdir && mkdir SparseSignatures.buildbin-libdir && /Users/biocbuild/BBS/utils/build-universal.sh SparseSignatures_2.17.0.tar.gz /Library/Frameworks/R.framework/Resources/bin/R SparseSignatures.buildbin-libdir StartedAt: 2025-02-03 23:07:32 -0500 (Mon, 03 Feb 2025) EndedAt: 2025-02-03 23:07:50 -0500 (Mon, 03 Feb 2025) EllapsedTime: 17.4 seconds RetCode: 0 Status: OK PackageFile: SparseSignatures_2.17.0.tgz PackageFileSize: 1.591 MiB