Package: SparseSignatures Version: 2.17.0 Command: /Library/Frameworks/R.framework/Resources/bin/R CMD build --keep-empty-dirs --no-resave-data SparseSignatures StartedAt: 2025-02-09 17:40:38 -0500 (Sun, 09 Feb 2025) EndedAt: 2025-02-09 17:42:15 -0500 (Sun, 09 Feb 2025) EllapsedTime: 97.0 seconds RetCode: 0 Status: OK PackageFile: SparseSignatures_2.17.0.tar.gz PackageFileSize: 1.462 MiB