Package: SparseSignatures Version: 2.17.0 Command: /Library/Frameworks/R.framework/Resources/bin/R CMD check --install=check:SparseSignatures.install-out.txt --library=/Library/Frameworks/R.framework/Resources/library --no-vignettes --timings SparseSignatures_2.17.0.tar.gz StartedAt: 2025-02-09 21:29:35 -0500 (Sun, 09 Feb 2025) EndedAt: 2025-02-09 21:34:47 -0500 (Sun, 09 Feb 2025) EllapsedTime: 311.5 seconds RetCode: 0 Status: OK CheckDir: SparseSignatures.Rcheck Warnings: 0