Package: SparseSignatures Version: 2.17.0 Command: /Library/Frameworks/R.framework/Resources/bin/R CMD INSTALL SparseSignatures StartedAt: 2025-02-09 15:13:07 -0500 (Sun, 09 Feb 2025) EndedAt: 2025-02-09 15:13:23 -0500 (Sun, 09 Feb 2025) EllapsedTime: 16.1 seconds RetCode: 0 Status: OK