Package: SparseSignatures Version: 2.17.0 Command: /home/biocbuild/R/R/bin/R CMD INSTALL SparseSignatures StartedAt: 2025-01-29 20:00:54 -0000 (Wed, 29 Jan 2025) EndedAt: 2025-01-29 20:01:48 -0000 (Wed, 29 Jan 2025) EllapsedTime: 53.2 seconds RetCode: 0 Status: OK