Package: SparseSignatures Version: 2.17.0 Command: rm -rf SparseSignatures.buildbin-libdir && mkdir SparseSignatures.buildbin-libdir && /Users/biocbuild/BBS/utils/build-universal.sh SparseSignatures_2.17.0.tar.gz /Library/Frameworks/R.framework/Resources/bin/R SparseSignatures.buildbin-libdir StartedAt: 2025-02-10 01:17:59 -0500 (Mon, 10 Feb 2025) EndedAt: 2025-02-10 01:18:56 -0500 (Mon, 10 Feb 2025) EllapsedTime: 56.6 seconds RetCode: 0 Status: OK PackageFile: SparseSignatures_2.17.0.tgz PackageFileSize: 1.59 MiB